BEGIN:VCALENDAR
CALSCALE:GREGORIAN
VERSION:2.0
METHOD:PUBLISH 
X-WR-CALNAME:
BEGIN:VEVENT
DTSTART;TZID=Europe/Paris:20260923T200000
DTEND;TZID=Europe/Paris:20260923T210000
SUMMARY:Charlie Winston - Tournée
CATEGORIE:Concerts et musique
GEO:47.64149439299400;6.85502870199600
LOCATION:Maison du Peuple\, 1 Place de la Résistance\, 90000 Belfort\, France
URL:https://www.fest.fr/e/2374173
UID:2374173-1@fest.fr
END:VEVENT
END:VCALENDAR
