BEGIN:VCALENDAR
CALSCALE:GREGORIAN
VERSION:2.0
METHOD:PUBLISH 
X-WR-CALNAME:
BEGIN:VEVENT
DTSTART;TZID=Europe/Paris:20260805T150000
DTEND;TZID=Europe/Paris:20260805T160000
SUMMARY:Atelier rigolo : Gang de poissons
CATEGORIE:Stages, Ateliers et Initiations
GEO:49.52469000000000;0.72148000000000
LOCATION:Avenue Winston Churchill
Caudebec-en-Caux
MuséoSeine\, 76490 Rives-en-Seine\, France
URL:https://www.fest.fr/e/2374164
UID:2374164-1@fest.fr
END:VEVENT
END:VCALENDAR
