BEGIN:VCALENDAR
CALSCALE:GREGORIAN
VERSION:2.0
METHOD:PUBLISH 
X-WR-CALNAME:
BEGIN:VEVENT
DTSTART;TZID=Europe/Paris:20260613T100000
DTEND;TZID=Europe/Paris:20260613T110000
SUMMARY:Fête des artisans...en musique !
CATEGORIE:Marchés, Foires et Salons
GEO:49.82324590000000;1.21351080000000
LOCATION:3029 Rue des Deux Vallées\, 76510 Freulleville\, France
URL:https://www.fest.fr/e/2374147
UID:2374147-1@fest.fr
END:VEVENT
END:VCALENDAR
