BEGIN:VCALENDAR
CALSCALE:GREGORIAN
VERSION:2.0
METHOD:PUBLISH 
X-WR-CALNAME:
BEGIN:VEVENT
DTSTART;TZID=Europe/Paris:20260527T180000
DTEND;TZID=Europe/Paris:20260527T190000
SUMMARY:Atelier bouquet final
CATEGORIE:Stages, Ateliers et Initiations
GEO:49.30424970000000;1.93822680000000
LOCATION:2 RUE AVRON
HARDIVILLIERS-EN-VEXIN\, 60240 Chaumont-en-Vexin\, France
URL:https://www.fest.fr/e/2374094
UID:2374094-1@fest.fr
END:VEVENT
BEGIN:VEVENT
DTSTART;TZID=Europe/Paris:20260910T180000
DTEND;TZID=Europe/Paris:20260910T190000
SUMMARY:Atelier bouquet final
CATEGORIE:Stages, Ateliers et Initiations
GEO:49.30424970000000;1.93822680000000
LOCATION:2 RUE AVRON
HARDIVILLIERS-EN-VEXIN\, 60240 Chaumont-en-Vexin\, France
URL:https://www.fest.fr/e/2374094
UID:2374094-2@fest.fr
END:VEVENT
BEGIN:VEVENT
DTSTART;TZID=Europe/Paris:20260911T180000
DTEND;TZID=Europe/Paris:20260911T190000
SUMMARY:Atelier bouquet final
CATEGORIE:Stages, Ateliers et Initiations
GEO:49.30424970000000;1.93822680000000
LOCATION:2 RUE AVRON
HARDIVILLIERS-EN-VEXIN\, 60240 Chaumont-en-Vexin\, France
URL:https://www.fest.fr/e/2374094
UID:2374094-3@fest.fr
END:VEVENT
END:VCALENDAR
