BEGIN:VCALENDAR
CALSCALE:GREGORIAN
VERSION:2.0
METHOD:PUBLISH 
X-WR-CALNAME:
BEGIN:VEVENT
DTSTART;TZID=Europe/Paris:20260314T190000
DTEND;TZID=Europe/Paris:20260314T200000
SUMMARY:Soirée Dub Électro Jazz
CATEGORIE:Concerts et Musique
GEO:45.20233800000000;4.03645900000000
LOCATION:43 avenue de la gare
La Pandicule\, 43130 Retournac\, France
URL:https://www.fest.fr/e/2373984
UID:2373984-1@fest.fr
END:VEVENT
END:VCALENDAR
