BEGIN:VCALENDAR
CALSCALE:GREGORIAN
VERSION:2.0
METHOD:PUBLISH 
X-WR-CALNAME:
BEGIN:VEVENT
DTSTART;TZID=Europe/Paris:20260715T100000
DTEND;TZID=Europe/Paris:20260715T110000
SUMMARY:Salade estivale
CATEGORIE:Stages, Ateliers et Initiations
GEO:45.68722500000000;-0.28902300000000
LOCATION:125 rue de la Trache
Les Jardins Respectueux\, 16100 Châteaubernard\, France
URL:https://www.fest.fr/e/2373979
UID:2373979-1@fest.fr
END:VEVENT
END:VCALENDAR
