BEGIN:VCALENDAR
CALSCALE:GREGORIAN
VERSION:2.0
METHOD:PUBLISH 
X-WR-CALNAME:
BEGIN:VEVENT
DTSTART;TZID=Europe/Paris:20260703T190000
DTEND;TZID=Europe/Paris:20260703T200000
SUMMARY:Concert - Le Parcours chanté
CATEGORIE:Concerts et Musique
GEO:46.22610600000000;-0.93292500000000
LOCATION:13 basse rue
Derrière la Mairie\, 17540 Saint-Sauveur-d'Aunis\, France
URL:https://www.fest.fr/e/2373898
UID:2373898-1@fest.fr
END:VEVENT
END:VCALENDAR
