BEGIN:VCALENDAR
CALSCALE:GREGORIAN
VERSION:2.0
METHOD:PUBLISH 
X-WR-CALNAME:
BEGIN:VEVENT
DTSTART;TZID=Europe/Paris:20260328T190000
DTEND;TZID=Europe/Paris:20260328T200000
SUMMARY:Saint-Patrick
CATEGORIE:Fêtes et Animations
GEO:49.21300890840500;6.85351780716248
LOCATION:Ctr Saint-Charles
Espace La Concorde -\, 57540 Petite-Rosselle\, France
URL:https://www.fest.fr/e/2373780
UID:2373780-1@fest.fr
END:VEVENT
END:VCALENDAR
