BEGIN:VCALENDAR
CALSCALE:GREGORIAN
VERSION:2.0
METHOD:PUBLISH 
X-WR-CALNAME:
BEGIN:VEVENT
DTSTART;TZID=Europe/Paris:20260606T140000
DTEND;TZID=Europe/Paris:20260606T150000
SUMMARY:Rendez-vous aux Jardins 2026
CATEGORIE:Expositions, Visites et Découvertes
GEO:46.35572500000000;-0.02629700000000
LOCATION:Manoir de la Cour 9 rue de la Cour 72440 Coudrecieux\, 9, rue de la Cour\, 79800 Exoudun\, France
URL:https://www.fest.fr/e/2373739
UID:2373739-1@fest.fr
END:VEVENT
BEGIN:VEVENT
DTSTART;TZID=Europe/Paris:20260607T140000
DTEND;TZID=Europe/Paris:20260607T150000
SUMMARY:Rendez-vous aux Jardins 2026
CATEGORIE:Expositions, Visites et Découvertes
GEO:46.35572500000000;-0.02629700000000
LOCATION:Manoir de la Cour 9 rue de la Cour 72440 Coudrecieux\, 9, rue de la Cour\, 79800 Exoudun\, France
URL:https://www.fest.fr/e/2373739
UID:2373739-2@fest.fr
END:VEVENT
END:VCALENDAR
