BEGIN:VCALENDAR
CALSCALE:GREGORIAN
VERSION:2.0
METHOD:PUBLISH 
X-WR-CALNAME:
BEGIN:VEVENT
DTSTART;TZID=Europe/Paris:20270204T103000
DTEND;TZID=Europe/Paris:20270204T113000
SUMMARY:Contes Shipibos - Train Théâtre / Hors les Murs - Claveyson (26)
CATEGORIE:Spectacles et Théâtre
GEO:45.18075200000000;4.93044100000000
LOCATION:Salle des fêtes\, Le Village -\, 26240 Claveyson\, France
URL:https://www.fest.fr/e/2373672
UID:2373672-1@fest.fr
END:VEVENT
BEGIN:VEVENT
DTSTART;TZID=Europe/Paris:20270204T143000
DTEND;TZID=Europe/Paris:20270204T153000
SUMMARY:Contes Shipibos - Train Théâtre / Hors les Murs - Claveyson (26)
CATEGORIE:Spectacles et Théâtre
GEO:45.18075200000000;4.93044100000000
LOCATION:Salle des fêtes\, Le Village -\, 26240 Claveyson\, France
URL:https://www.fest.fr/e/2373672
UID:2373672-2@fest.fr
END:VEVENT
BEGIN:VEVENT
DTSTART;TZID=Europe/Paris:20270205T103000
DTEND;TZID=Europe/Paris:20270205T113000
SUMMARY:Contes Shipibos - Train Théâtre / Hors les Murs - Claveyson (26)
CATEGORIE:Spectacles et Théâtre
GEO:45.18075200000000;4.93044100000000
LOCATION:Salle des fêtes\, Le Village -\, 26240 Claveyson\, France
URL:https://www.fest.fr/e/2373672
UID:2373672-3@fest.fr
END:VEVENT
END:VCALENDAR
