BEGIN:VCALENDAR
CALSCALE:GREGORIAN
VERSION:2.0
METHOD:PUBLISH 
X-WR-CALNAME:
BEGIN:VEVENT
DTSTART;TZID=Europe/Paris:20260425T100000
DTEND;TZID=Europe/Paris:20260425T110000
SUMMARY:Marché de printemps
CATEGORIE:Marchés, Foires et Salons
LOCATION:Ehpad.\, Rue du docteur Pouliquen\, 29800 Landerneau\, France
URL:https://www.fest.fr/e/2373552
UID:2373552-1@fest.fr
END:VEVENT
END:VCALENDAR
