BEGIN:VCALENDAR
CALSCALE:GREGORIAN
VERSION:2.0
METHOD:PUBLISH 
X-WR-CALNAME:
BEGIN:VEVENT
DTSTART;TZID=Europe/Paris:20260530T123456
DTEND;TZID=Europe/Paris:20260530T133456
SUMMARY:Spectacle NS World Studio International
CATEGORIE:Spectacles et Théâtre
GEO:43.27288200000000;5.39118100000000
LOCATION:2 bd Rabatau
Palais des Congrès\, 13008 Marseille 8e\, France
URL:https://www.fest.fr/e/2373507
UID:2373507-1@fest.fr
END:VEVENT
END:VCALENDAR
