BEGIN:VCALENDAR
CALSCALE:GREGORIAN
VERSION:2.0
METHOD:PUBLISH 
X-WR-CALNAME:
BEGIN:VEVENT
DTSTART;TZID=Europe/Paris:20260304T150000
DTEND;TZID=Europe/Paris:20260304T160000
SUMMARY:RENDEZ-VOUS PAYS D'ART ET D'HISTOIRE FAMILLES - VINÇA, MISSION MYSTÈRE
CATEGORIE:Expositions, Visites et Découvertes
GEO:42.64557340000000;2.52929080000000
LOCATION:11 Avenue Général de Gaulle\, 66320 Vinça\, France
URL:https://www.fest.fr/e/2373467
UID:2373467-1@fest.fr
END:VEVENT
END:VCALENDAR
