BEGIN:VCALENDAR
CALSCALE:GREGORIAN
VERSION:2.0
METHOD:PUBLISH 
X-WR-CALNAME:
BEGIN:VEVENT
DTSTART;TZID=Europe/Paris:20260509T210000
DTEND;TZID=Europe/Paris:20260509T220000
SUMMARY:DOC LOU & THE ROOSTERS
CATEGORIE:Concerts et Musique
GEO:43.20183000000000;2.76222000000000
LOCATION:11 Rue Paul Bert\, 11200 Lézignan-Corbières\, France
URL:https://www.fest.fr/e/2373406
UID:2373406-1@fest.fr
END:VEVENT
END:VCALENDAR
