BEGIN:VCALENDAR
CALSCALE:GREGORIAN
VERSION:2.0
METHOD:PUBLISH 
X-WR-CALNAME:
BEGIN:VEVENT
DTSTART;TZID=Europe/Paris:20260729T140000
DTEND;TZID=Europe/Paris:20260729T150000
SUMMARY:La queue d'aronde - Fabriquez votre planche apéro
CATEGORIE:Stages, Ateliers et Initiations
GEO:47.89076000000000;-3.53139000000000
LOCATION:1 Croix de Loc Yvi
L'Atelier des Copeaux\, 29300 Tréméven\, France
URL:https://www.fest.fr/e/2373345
UID:2373345-1@fest.fr
END:VEVENT
END:VCALENDAR
