BEGIN:VCALENDAR
CALSCALE:GREGORIAN
VERSION:2.0
METHOD:PUBLISH 
X-WR-CALNAME:
BEGIN:VEVENT
DTSTART;TZID=Europe/Paris:20260508T140000
DTEND;TZID=Europe/Paris:20260508T150000
SUMMARY:Visite guidée "Au Raz de la Pointe"
CATEGORIE:Expositions, Visites et Découvertes
GEO:48.04085900000000;-4.67097700000000
LOCATION:Pointe du Raz\, 29770 Plogoff\, France
URL:https://www.fest.fr/e/2373330
UID:2373330-1@fest.fr
END:VEVENT
BEGIN:VEVENT
DTSTART;TZID=Europe/Paris:20260508T160000
DTEND;TZID=Europe/Paris:20260508T170000
SUMMARY:Visite guidée "Au Raz de la Pointe"
CATEGORIE:Expositions, Visites et Découvertes
GEO:48.04085900000000;-4.67097700000000
LOCATION:Pointe du Raz\, 29770 Plogoff\, France
URL:https://www.fest.fr/e/2373330
UID:2373330-2@fest.fr
END:VEVENT
END:VCALENDAR
