BEGIN:VCALENDAR
CALSCALE:GREGORIAN
VERSION:2.0
METHOD:PUBLISH 
X-WR-CALNAME:
BEGIN:VEVENT
DTSTART;TZID=Europe/Paris:20260416T143000
DTEND;TZID=Europe/Paris:20260416T153000
SUMMARY:Atelier enfant : Les maisons à pans de bois
CATEGORIE:Stages, Ateliers et Initiations
GEO:48.06695000000000;-2.96796000000000
LOCATION:2 Quai Niemen
Péniche Duchesse Anne\, 56300 Pontivy\, France
URL:https://www.fest.fr/e/2373313
UID:2373313-1@fest.fr
END:VEVENT
BEGIN:VEVENT
DTSTART;TZID=Europe/Paris:20260423T143000
DTEND;TZID=Europe/Paris:20260423T153000
SUMMARY:Atelier enfant : Les maisons à pans de bois
CATEGORIE:Stages, Ateliers et Initiations
GEO:48.06695000000000;-2.96796000000000
LOCATION:2 Quai Niemen
Péniche Duchesse Anne\, 56300 Pontivy\, France
URL:https://www.fest.fr/e/2373313
UID:2373313-2@fest.fr
END:VEVENT
END:VCALENDAR
