BEGIN:VCALENDAR
CALSCALE:GREGORIAN
VERSION:2.0
METHOD:PUBLISH 
X-WR-CALNAME:
BEGIN:VEVENT
DTSTART;TZID=Europe/Paris:20260321T123456
DTEND;TZID=Europe/Paris:20260321T133456
SUMMARY:22ÈME TRAIL DE BOUZIGUES
CATEGORIE:Sports
GEO:43.44827590000000;3.66239560000000
LOCATION:Chemin de la Fringadelle
Salle Fringadelle\, 34140 Bouzigues\, France
URL:https://www.fest.fr/e/2372994
UID:2372994-1@fest.fr
END:VEVENT
END:VCALENDAR
