BEGIN:VCALENDAR
CALSCALE:GREGORIAN
VERSION:2.0
METHOD:PUBLISH 
X-WR-CALNAME:
BEGIN:VEVENT
DTSTART;TZID=Europe/Paris:20260516T093000
DTEND;TZID=Europe/Paris:20260516T103000
SUMMARY:[Visite guidée] Les ruines du Château d'Arques
CATEGORIE:Expositions, Visites et Découvertes
GEO:49.86548890000000;1.13816700000000
LOCATION:Château d'Arques\, 76880 Arques-la-Bataille\, France
URL:https://www.fest.fr/e/2372979
UID:2372979-1@fest.fr
END:VEVENT
BEGIN:VEVENT
DTSTART;TZID=Europe/Paris:20260620T093000
DTEND;TZID=Europe/Paris:20260620T103000
SUMMARY:[Visite guidée] Les ruines du Château d'Arques
CATEGORIE:Expositions, Visites et Découvertes
GEO:49.86548890000000;1.13816700000000
LOCATION:Château d'Arques\, 76880 Arques-la-Bataille\, France
URL:https://www.fest.fr/e/2372979
UID:2372979-2@fest.fr
END:VEVENT
BEGIN:VEVENT
DTSTART;TZID=Europe/Paris:20260718T093000
DTEND;TZID=Europe/Paris:20260718T103000
SUMMARY:[Visite guidée] Les ruines du Château d'Arques
CATEGORIE:Expositions, Visites et Découvertes
GEO:49.86548890000000;1.13816700000000
LOCATION:Château d'Arques\, 76880 Arques-la-Bataille\, France
URL:https://www.fest.fr/e/2372979
UID:2372979-3@fest.fr
END:VEVENT
BEGIN:VEVENT
DTSTART;TZID=Europe/Paris:20260815T093000
DTEND;TZID=Europe/Paris:20260815T103000
SUMMARY:[Visite guidée] Les ruines du Château d'Arques
CATEGORIE:Expositions, Visites et Découvertes
GEO:49.86548890000000;1.13816700000000
LOCATION:Château d'Arques\, 76880 Arques-la-Bataille\, France
URL:https://www.fest.fr/e/2372979
UID:2372979-4@fest.fr
END:VEVENT
BEGIN:VEVENT
DTSTART;TZID=Europe/Paris:20260919T093000
DTEND;TZID=Europe/Paris:20260919T103000
SUMMARY:[Visite guidée] Les ruines du Château d'Arques
CATEGORIE:Expositions, Visites et Découvertes
GEO:49.86548890000000;1.13816700000000
LOCATION:Château d'Arques\, 76880 Arques-la-Bataille\, France
URL:https://www.fest.fr/e/2372979
UID:2372979-5@fest.fr
END:VEVENT
END:VCALENDAR
