BEGIN:VCALENDAR
CALSCALE:GREGORIAN
VERSION:2.0
METHOD:PUBLISH 
X-WR-CALNAME:
BEGIN:VEVENT
DTSTART;TZID=Europe/Paris:20260705T080000
DTEND;TZID=Europe/Paris:20260705T090000
SUMMARY:9ème édition de la Route du Camembert
CATEGORIE:Randonnées et balades
GEO:48.92830580000000;0.19967684000000
LOCATION:Hall du Pays d'Auge
Rue du Perré\, 61120 Vimoutiers\, France
URL:https://www.fest.fr/e/2372952
UID:2372952-1@fest.fr
END:VEVENT
END:VCALENDAR
