BEGIN:VCALENDAR
CALSCALE:GREGORIAN
VERSION:2.0
METHOD:PUBLISH 
X-WR-CALNAME:
BEGIN:VEVENT
DTSTART;TZID=Europe/Paris:20260307T093000
DTEND;TZID=Europe/Paris:20260307T103000
SUMMARY:Sortie nature | Chantier nature à Saint-Vaast-lès-Mello
CATEGORIE:Social et solidaire
GEO:49.26417010000000;2.39772148000000
LOCATION:251 Route de Cramoisy\, 60660 Cires-lès-Mello\, France
URL:https://www.fest.fr/e/2372869
UID:2372869-1@fest.fr
END:VEVENT
END:VCALENDAR
