BEGIN:VCALENDAR
CALSCALE:GREGORIAN
VERSION:2.0
METHOD:PUBLISH 
X-WR-CALNAME:
BEGIN:VEVENT
DTSTART;TZID=Europe/Paris:20260927T190000
DTEND;TZID=Europe/Paris:20260927T200000
SUMMARY:La Thérapie de la Connerie ( Tournée )
CATEGORIE:Spectacles et théâtre
GEO:47.99626075478700;-4.10810109322900
LOCATION:Chapeau Rouge\, 1 Rue du Paradis\, 29000 Quimper\, France
URL:https://www.fest.fr/e/2372832
UID:2372832-1@fest.fr
END:VEVENT
END:VCALENDAR
