BEGIN:VCALENDAR
CALSCALE:GREGORIAN
VERSION:2.0
METHOD:PUBLISH 
X-WR-CALNAME:
BEGIN:VEVENT
DTSTART;TZID=Europe/Paris:20260523T123456
DTEND;TZID=Europe/Paris:20260523T133456
SUMMARY:Concert Violon et Harpe
CATEGORIE:Concerts et Musique
GEO:48.32525320000000;1.06422080000000
LOCATION:Place de l'Église\, 28480 Combres\, France
URL:https://www.fest.fr/e/2372814
UID:2372814-1@fest.fr
END:VEVENT
END:VCALENDAR
