BEGIN:VCALENDAR
CALSCALE:GREGORIAN
VERSION:2.0
METHOD:PUBLISH 
X-WR-CALNAME:
BEGIN:VEVENT
DTSTART;TZID=Europe/Paris:20260420T150000
DTEND;TZID=Europe/Paris:20260420T160000
SUMMARY:L'atelier de recyclage de Jean
CATEGORIE:Expositions, Visites et Découvertes
GEO:46.61410790000000;1.29679141000000
LOCATION:Rue de la vielle Croix\, 36800 Oulches\, France
URL:https://www.fest.fr/e/2372811
UID:2372811-1@fest.fr
END:VEVENT
END:VCALENDAR
