BEGIN:VCALENDAR
CALSCALE:GREGORIAN
VERSION:2.0
METHOD:PUBLISH 
X-WR-CALNAME:
BEGIN:VEVENT
DTSTART;TZID=Europe/Paris:20260728T093000
DTEND;TZID=Europe/Paris:20260728T103000
SUMMARY:Visite nature
CATEGORIE:Stages, Ateliers et Initiations
GEO:45.06030400000000;4.30210100000000
LOCATION:2 d route de Tence
RDV Office de tourisme\, 43400 Le Chambon-sur-Lignon\, France
URL:https://www.fest.fr/e/2372757
UID:2372757-1@fest.fr
END:VEVENT
END:VCALENDAR
