BEGIN:VCALENDAR
CALSCALE:GREGORIAN
VERSION:2.0
METHOD:PUBLISH 
X-WR-CALNAME:
BEGIN:VEVENT
DTSTART;TZID=Europe/Paris:20260315T073000
DTEND;TZID=Europe/Paris:20260315T083000
SUMMARY:Marché hebdomadaire d'Argentière
CATEGORIE:Marchés, Foires et Salons
GEO:45.98408900000000;6.92702300000000
LOCATION:Place du village\, 74400 Chamonix-Mont-Blanc\, France
URL:https://www.fest.fr/e/2372691
UID:2372691-1@fest.fr
END:VEVENT
END:VCALENDAR
