BEGIN:VCALENDAR
CALSCALE:GREGORIAN
VERSION:2.0
METHOD:PUBLISH 
X-WR-CALNAME:
BEGIN:VEVENT
DTSTART;TZID=Europe/Paris:20260707T110000
DTEND;TZID=Europe/Paris:20260707T120000
SUMMARY:Visite guidée du Lieu de Mémoire
CATEGORIE:Expositions, Visites et Découvertes
GEO:45.05876300000000;4.30152300000000
LOCATION:23 Route du Mazet
Lieu de Mémoire\, 43400 Le Chambon-sur-Lignon\, France
URL:https://www.fest.fr/e/2372689
UID:2372689-1@fest.fr
END:VEVENT
END:VCALENDAR
