BEGIN:VCALENDAR
CALSCALE:GREGORIAN
VERSION:2.0
METHOD:PUBLISH 
X-WR-CALNAME:
BEGIN:VEVENT
DTSTART;TZID=Europe/Paris:20260606T093000
DTEND;TZID=Europe/Paris:20260606T103000
SUMMARY:Flânerie au jardin
CATEGORIE:Expositions, Visites et Découvertes
GEO:48.18116800000000;7.50878100000000
LOCATION:Les Jardins de la Romance\, 26 rue de l’Eglise\, 67390 Ohnenheim\, France
URL:https://www.fest.fr/e/2372543
UID:2372543-1@fest.fr
END:VEVENT
BEGIN:VEVENT
DTSTART;TZID=Europe/Paris:20260607T093000
DTEND;TZID=Europe/Paris:20260607T103000
SUMMARY:Flânerie au jardin
CATEGORIE:Expositions, Visites et Découvertes
GEO:48.18116800000000;7.50878100000000
LOCATION:Les Jardins de la Romance\, 26 rue de l’Eglise\, 67390 Ohnenheim\, France
URL:https://www.fest.fr/e/2372543
UID:2372543-2@fest.fr
END:VEVENT
END:VCALENDAR
