BEGIN:VCALENDAR
CALSCALE:GREGORIAN
VERSION:2.0
METHOD:PUBLISH 
X-WR-CALNAME:
BEGIN:VEVENT
DTSTART;TZID=Europe/Paris:20260627T100000
DTEND;TZID=Europe/Paris:20260627T110000
SUMMARY:Balade autour des plantes
CATEGORIE:Stages, Ateliers et Initiations
GEO:49.10436125680150;6.70879228836058
LOCATION:2 place Collin\, 57500 Saint-Avold\, France
URL:https://www.fest.fr/e/2372534
UID:2372534-1@fest.fr
END:VEVENT
END:VCALENDAR
