BEGIN:VCALENDAR
CALSCALE:GREGORIAN
VERSION:2.0
METHOD:PUBLISH 
X-WR-CALNAME:
BEGIN:VEVENT
DTSTART;TZID=Europe/Paris:20260307T100000
DTEND;TZID=Europe/Paris:20260307T110000
SUMMARY:Vide ta chambre
CATEGORIE:Brocantes, Bourses et Vide-Greniers
GEO:48.26638911559070;6.14355431344779
LOCATION:Salle des Fêtes
rue de la Grande Rangée\, 88500 Hymont\, France
URL:https://www.fest.fr/e/2372522
UID:2372522-1@fest.fr
END:VEVENT
END:VCALENDAR
