BEGIN:VCALENDAR
CALSCALE:GREGORIAN
VERSION:2.0
METHOD:PUBLISH 
X-WR-CALNAME:
BEGIN:VEVENT
DTSTART;TZID=Europe/Paris:20260413T081500
DTEND;TZID=Europe/Paris:20260413T091500
SUMMARY:Stages sport, sciences, nature
CATEGORIE:Stages, Ateliers et Initiations
GEO:47.26533100000000;-1.54542600000000
LOCATION:Espace de plein air de Port-Barbe\, La Haute Gournière \, 44240 La Chapelle-sur-Erdre\, France
URL:https://www.fest.fr/e/2372478
UID:2372478-1@fest.fr
END:VEVENT
BEGIN:VEVENT
DTSTART;TZID=Europe/Paris:20260414T081500
DTEND;TZID=Europe/Paris:20260414T091500
SUMMARY:Stages sport, sciences, nature
CATEGORIE:Stages, Ateliers et Initiations
GEO:47.26533100000000;-1.54542600000000
LOCATION:Espace de plein air de Port-Barbe\, La Haute Gournière \, 44240 La Chapelle-sur-Erdre\, France
URL:https://www.fest.fr/e/2372478
UID:2372478-2@fest.fr
END:VEVENT
BEGIN:VEVENT
DTSTART;TZID=Europe/Paris:20260415T081500
DTEND;TZID=Europe/Paris:20260415T091500
SUMMARY:Stages sport, sciences, nature
CATEGORIE:Stages, Ateliers et Initiations
GEO:47.26533100000000;-1.54542600000000
LOCATION:Espace de plein air de Port-Barbe\, La Haute Gournière \, 44240 La Chapelle-sur-Erdre\, France
URL:https://www.fest.fr/e/2372478
UID:2372478-3@fest.fr
END:VEVENT
BEGIN:VEVENT
DTSTART;TZID=Europe/Paris:20260416T081500
DTEND;TZID=Europe/Paris:20260416T091500
SUMMARY:Stages sport, sciences, nature
CATEGORIE:Stages, Ateliers et Initiations
GEO:47.26533100000000;-1.54542600000000
LOCATION:Espace de plein air de Port-Barbe\, La Haute Gournière \, 44240 La Chapelle-sur-Erdre\, France
URL:https://www.fest.fr/e/2372478
UID:2372478-4@fest.fr
END:VEVENT
BEGIN:VEVENT
DTSTART;TZID=Europe/Paris:20260417T081500
DTEND;TZID=Europe/Paris:20260417T091500
SUMMARY:Stages sport, sciences, nature
CATEGORIE:Stages, Ateliers et Initiations
GEO:47.26533100000000;-1.54542600000000
LOCATION:Espace de plein air de Port-Barbe\, La Haute Gournière \, 44240 La Chapelle-sur-Erdre\, France
URL:https://www.fest.fr/e/2372478
UID:2372478-5@fest.fr
END:VEVENT
BEGIN:VEVENT
DTSTART;TZID=Europe/Paris:20260420T081500
DTEND;TZID=Europe/Paris:20260420T091500
SUMMARY:Stages sport, sciences, nature
CATEGORIE:Stages, Ateliers et Initiations
GEO:47.26533100000000;-1.54542600000000
LOCATION:Espace de plein air de Port-Barbe\, La Haute Gournière \, 44240 La Chapelle-sur-Erdre\, France
URL:https://www.fest.fr/e/2372478
UID:2372478-6@fest.fr
END:VEVENT
BEGIN:VEVENT
DTSTART;TZID=Europe/Paris:20260421T081500
DTEND;TZID=Europe/Paris:20260421T091500
SUMMARY:Stages sport, sciences, nature
CATEGORIE:Stages, Ateliers et Initiations
GEO:47.26533100000000;-1.54542600000000
LOCATION:Espace de plein air de Port-Barbe\, La Haute Gournière \, 44240 La Chapelle-sur-Erdre\, France
URL:https://www.fest.fr/e/2372478
UID:2372478-7@fest.fr
END:VEVENT
BEGIN:VEVENT
DTSTART;TZID=Europe/Paris:20260422T081500
DTEND;TZID=Europe/Paris:20260422T091500
SUMMARY:Stages sport, sciences, nature
CATEGORIE:Stages, Ateliers et Initiations
GEO:47.26533100000000;-1.54542600000000
LOCATION:Espace de plein air de Port-Barbe\, La Haute Gournière \, 44240 La Chapelle-sur-Erdre\, France
URL:https://www.fest.fr/e/2372478
UID:2372478-8@fest.fr
END:VEVENT
BEGIN:VEVENT
DTSTART;TZID=Europe/Paris:20260423T081500
DTEND;TZID=Europe/Paris:20260423T091500
SUMMARY:Stages sport, sciences, nature
CATEGORIE:Stages, Ateliers et Initiations
GEO:47.26533100000000;-1.54542600000000
LOCATION:Espace de plein air de Port-Barbe\, La Haute Gournière \, 44240 La Chapelle-sur-Erdre\, France
URL:https://www.fest.fr/e/2372478
UID:2372478-9@fest.fr
END:VEVENT
BEGIN:VEVENT
DTSTART;TZID=Europe/Paris:20260424T081500
DTEND;TZID=Europe/Paris:20260424T091500
SUMMARY:Stages sport, sciences, nature
CATEGORIE:Stages, Ateliers et Initiations
GEO:47.26533100000000;-1.54542600000000
LOCATION:Espace de plein air de Port-Barbe\, La Haute Gournière \, 44240 La Chapelle-sur-Erdre\, France
URL:https://www.fest.fr/e/2372478
UID:2372478-10@fest.fr
END:VEVENT
END:VCALENDAR
