BEGIN:VCALENDAR
CALSCALE:GREGORIAN
VERSION:2.0
METHOD:PUBLISH 
X-WR-CALNAME:
BEGIN:VEVENT
DTSTART;TZID=Europe/Paris:20260606T100000
DTEND;TZID=Europe/Paris:20260606T110000
SUMMARY:À l'assaut de la "muraille verte" de Toulon !
CATEGORIE:Expositions, Visites et Découvertes
GEO:43.12736000000000;5.94193700000000
LOCATION:Parc La Loubière\, Place Louis Martial Laporterie,  TOULON\, 83000 Toulon\, France
URL:https://www.fest.fr/e/2372378
UID:2372378-1@fest.fr
END:VEVENT
END:VCALENDAR
