BEGIN:VCALENDAR
CALSCALE:GREGORIAN
VERSION:2.0
METHOD:PUBLISH 
X-WR-CALNAME:
BEGIN:VEVENT
DTSTART;TZID=Europe/Paris:20260530T093000
DTEND;TZID=Europe/Paris:20260530T103000
SUMMARY:Balade citoyenne à vélo entre Verneuil et Breteuil
CATEGORIE:Randonnées et balades
GEO:48.74022600000000;0.92933400000000
LOCATION:mairie de Verneuil d'Avre et d'Iton\, Rond-point de la Victoire,  Verneuil-sur-Avre\, 27130 Verneuil d'Avre et d'Iton\, France
URL:https://www.fest.fr/e/2372323
UID:2372323-1@fest.fr
END:VEVENT
END:VCALENDAR
