BEGIN:VCALENDAR
CALSCALE:GREGORIAN
VERSION:2.0
METHOD:PUBLISH 
X-WR-CALNAME:
BEGIN:VEVENT
DTSTART;TZID=Europe/Paris:20260530T173000
DTEND;TZID=Europe/Paris:20260530T183000
SUMMARY:« Qu’est-ce qu’on fait là ? »
CATEGORIE:Spectacles et Théâtre
GEO:47.19752500000000;-1.67272000000000
LOCATION:Esplanade Odette Nilès\, Quai Victor Boquien \, 44610 Indre\, France
URL:https://www.fest.fr/e/2372130
UID:2372130-1@fest.fr
END:VEVENT
END:VCALENDAR
