BEGIN:VCALENDAR
CALSCALE:GREGORIAN
VERSION:2.0
METHOD:PUBLISH 
X-WR-CALNAME:
BEGIN:VEVENT
DTSTART;TZID=Europe/Paris:20260304T160000
DTEND;TZID=Europe/Paris:20260304T170000
SUMMARY:C'EST L'HEURE… DU CONTE ! - MÉDIATHÈQUE ELNE
CATEGORIE:Littérature
GEO:42.60149970000000;2.97187150000000
LOCATION:3 Rue du Docteur Charles Bolte\, 66200 Elne\, France
URL:https://www.fest.fr/e/2372021
UID:2372021-1@fest.fr
END:VEVENT
BEGIN:VEVENT
DTSTART;TZID=Europe/Paris:20260401T160000
DTEND;TZID=Europe/Paris:20260401T170000
SUMMARY:C'EST L'HEURE… DU CONTE ! - MÉDIATHÈQUE ELNE
CATEGORIE:Littérature
GEO:42.60149970000000;2.97187150000000
LOCATION:3 Rue du Docteur Charles Bolte\, 66200 Elne\, France
URL:https://www.fest.fr/e/2372021
UID:2372021-2@fest.fr
END:VEVENT
BEGIN:VEVENT
DTSTART;TZID=Europe/Paris:20260506T160000
DTEND;TZID=Europe/Paris:20260506T170000
SUMMARY:C'EST L'HEURE… DU CONTE ! - MÉDIATHÈQUE ELNE
CATEGORIE:Littérature
GEO:42.60149970000000;2.97187150000000
LOCATION:3 Rue du Docteur Charles Bolte\, 66200 Elne\, France
URL:https://www.fest.fr/e/2372021
UID:2372021-3@fest.fr
END:VEVENT
BEGIN:VEVENT
DTSTART;TZID=Europe/Paris:20260603T160000
DTEND;TZID=Europe/Paris:20260603T170000
SUMMARY:C'EST L'HEURE… DU CONTE ! - MÉDIATHÈQUE ELNE
CATEGORIE:Littérature
GEO:42.60149970000000;2.97187150000000
LOCATION:3 Rue du Docteur Charles Bolte\, 66200 Elne\, France
URL:https://www.fest.fr/e/2372021
UID:2372021-4@fest.fr
END:VEVENT
END:VCALENDAR
