BEGIN:VCALENDAR
CALSCALE:GREGORIAN
VERSION:2.0
METHOD:PUBLISH 
X-WR-CALNAME:
BEGIN:VEVENT
DTSTART;TZID=Europe/Paris:20260912T100000
DTEND;TZID=Europe/Paris:20260912T110000
SUMMARY:Fête de l’orgue : Tribune ouverte
CATEGORIE:Expositions, Visites et Découvertes
GEO:47.81093100000000;7.10114400000000
LOCATION:10 place Joffre\, 68800 Thann\, France
URL:https://www.fest.fr/e/2371980
UID:2371980-1@fest.fr
END:VEVENT
END:VCALENDAR
