BEGIN:VCALENDAR
CALSCALE:GREGORIAN
VERSION:2.0
METHOD:PUBLISH 
X-WR-CALNAME:
BEGIN:VEVENT
DTSTART;TZID=Europe/Paris:20260423T180000
DTEND;TZID=Europe/Paris:20260423T190000
SUMMARY:Visite du centre de méthanisation Agrivalor
CATEGORIE:Expositions, Visites et Découvertes
GEO:48.18710499923280;7.35998153686524
LOCATION:Route de Guémar\, 68150 Ribeauvillé\, France
URL:https://www.fest.fr/e/2371975
UID:2371975-1@fest.fr
END:VEVENT
END:VCALENDAR
