BEGIN:VCALENDAR
CALSCALE:GREGORIAN
VERSION:2.0
METHOD:PUBLISH 
X-WR-CALNAME:
BEGIN:VEVENT
DTSTART;TZID=Europe/Paris:20260912T160000
DTEND;TZID=Europe/Paris:20260912T170000
SUMMARY:Fête médiévale
CATEGORIE:Fêtes et Animations
GEO:48.49623842163110;7.46893040342711
LOCATION:Centre ville\, 67560 Rosheim\, France
URL:https://www.fest.fr/e/2371962
UID:2371962-1@fest.fr
END:VEVENT
BEGIN:VEVENT
DTSTART;TZID=Europe/Paris:20260913T100000
DTEND;TZID=Europe/Paris:20260913T110000
SUMMARY:Fête médiévale
CATEGORIE:Fêtes et Animations
GEO:48.49623842163110;7.46893040342711
LOCATION:Centre ville\, 67560 Rosheim\, France
URL:https://www.fest.fr/e/2371962
UID:2371962-2@fest.fr
END:VEVENT
END:VCALENDAR
