BEGIN:VCALENDAR
CALSCALE:GREGORIAN
VERSION:2.0
METHOD:PUBLISH 
X-WR-CALNAME:
BEGIN:VEVENT
DTSTART;TZID=Europe/Paris:20260313T180000
DTEND;TZID=Europe/Paris:20260313T190000
SUMMARY:Jeu d'enquête ados/parents
CATEGORIE:Jeux et Concours
GEO:49.52438090000000;0.72221839000000
LOCATION:Avenue Winston-Churchill
Caudebec-en-Caux
MuséoSeine\, 76490 Rives-en-Seine\, France
URL:https://www.fest.fr/e/2371743
UID:2371743-1@fest.fr
END:VEVENT
END:VCALENDAR
