BEGIN:VCALENDAR
CALSCALE:GREGORIAN
VERSION:2.0
METHOD:PUBLISH 
X-WR-CALNAME:
BEGIN:VEVENT
DTSTART;TZID=Europe/Paris:20260607T140000
DTEND;TZID=Europe/Paris:20260607T150000
SUMMARY:Découverte du parc et des jardins du château de Tournelay
CATEGORIE:Expositions, Visites et Découvertes
GEO:46.93043100000000;-0.59697900000000
LOCATION:Parc et jardins du château de Tournelay\, Lieu-dit Tournelay, 5 rue de Cerizay, Deux-Sèvres, Nouvelle-Aquitaine\, 79250 Nueil-les-Aubiers\, France
URL:https://www.fest.fr/e/2371688
UID:2371688-1@fest.fr
END:VEVENT
END:VCALENDAR
