BEGIN:VCALENDAR
CALSCALE:GREGORIAN
VERSION:2.0
METHOD:PUBLISH 
X-WR-CALNAME:
BEGIN:VEVENT
DTSTART;TZID=Europe/Paris:20261017T190000
DTEND;TZID=Europe/Paris:20261017T200000
SUMMARY:Audrey Horne + Motorowl
CATEGORIE:Concerts et musique
LOCATION:AUSTRA ROCKS\, \, 38400 Saint-Martin-d'Hères\, France
URL:https://www.fest.fr/e/2371489
UID:2371489-1@fest.fr
END:VEVENT
END:VCALENDAR
