BEGIN:VCALENDAR
CALSCALE:GREGORIAN
VERSION:2.0
METHOD:PUBLISH 
X-WR-CALNAME:
BEGIN:VEVENT
DTSTART;TZID=Europe/Paris:20260618T143000
DTEND;TZID=Europe/Paris:20260618T153000
SUMMARY:Atelier Ressource : Sophro-marche
CATEGORIE:Stages, Ateliers et Initiations
GEO:47.30134700000000;-1.54866900000000
LOCATION:Salle Saint Michel\, 6 Rue de Sucé Sur Erdre\, 44240 La Chapelle-sur-Erdre\, France
URL:https://www.fest.fr/e/2371214
UID:2371214-1@fest.fr
END:VEVENT
END:VCALENDAR
