BEGIN:VCALENDAR
CALSCALE:GREGORIAN
VERSION:2.0
METHOD:PUBLISH 
X-WR-CALNAME:
BEGIN:VEVENT
DTSTART;TZID=Europe/Paris:20260611T200000
DTEND;TZID=Europe/Paris:20260611T210000
SUMMARY:Nous camperons ici
CATEGORIE:Spectacles et Théâtre
GEO:47.29342700000000;-1.48575000000000
LOCATION:La Générale, Caserne Mellinet\, 31 Rue Gabrielle le Pan de Ligny\, 44000 Nantes\, France
URL:https://www.fest.fr/e/2370998
UID:2370998-1@fest.fr
END:VEVENT
END:VCALENDAR
