BEGIN:VCALENDAR
CALSCALE:GREGORIAN
VERSION:2.0
METHOD:PUBLISH 
X-WR-CALNAME:
BEGIN:VEVENT
DTSTART;TZID=Europe/Paris:20260606T200000
DTEND;TZID=Europe/Paris:20260606T210000
SUMMARY:Freud et ses souffrantes
CATEGORIE:Spectacles et Théâtre
GEO:44.84226500000000;-0.57819100000000
LOCATION:Théâtre Trianon\, 6 rue Franklin \, 33000 Bordeaux\, France
URL:https://www.fest.fr/e/2370971
UID:2370971-1@fest.fr
END:VEVENT
END:VCALENDAR
