BEGIN:VCALENDAR
CALSCALE:GREGORIAN
VERSION:2.0
METHOD:PUBLISH 
X-WR-CALNAME:
BEGIN:VEVENT
DTSTART;TZID=Europe/Paris:20260606T090000
DTEND;TZID=Europe/Paris:20260606T100000
SUMMARY:Découverte d'un jardin paysager
CATEGORIE:Expositions, Visites et Découvertes
GEO:45.87729900000000;1.40508700000000
LOCATION:Jardin-parc Bellevue de Cintrat\, 3 chemin de Fontalicourt\, 87590 Saint-Just-le-Martel\, France
URL:https://www.fest.fr/e/2370958
UID:2370958-1@fest.fr
END:VEVENT
BEGIN:VEVENT
DTSTART;TZID=Europe/Paris:20260606T140000
DTEND;TZID=Europe/Paris:20260606T150000
SUMMARY:Découverte d'un jardin paysager
CATEGORIE:Expositions, Visites et Découvertes
GEO:45.87729900000000;1.40508700000000
LOCATION:Jardin-parc Bellevue de Cintrat\, 3 chemin de Fontalicourt\, 87590 Saint-Just-le-Martel\, France
URL:https://www.fest.fr/e/2370958
UID:2370958-2@fest.fr
END:VEVENT
BEGIN:VEVENT
DTSTART;TZID=Europe/Paris:20260607T090000
DTEND;TZID=Europe/Paris:20260607T100000
SUMMARY:Découverte d'un jardin paysager
CATEGORIE:Expositions, Visites et Découvertes
GEO:45.87729900000000;1.40508700000000
LOCATION:Jardin-parc Bellevue de Cintrat\, 3 chemin de Fontalicourt\, 87590 Saint-Just-le-Martel\, France
URL:https://www.fest.fr/e/2370958
UID:2370958-3@fest.fr
END:VEVENT
BEGIN:VEVENT
DTSTART;TZID=Europe/Paris:20260607T140000
DTEND;TZID=Europe/Paris:20260607T150000
SUMMARY:Découverte d'un jardin paysager
CATEGORIE:Expositions, Visites et Découvertes
GEO:45.87729900000000;1.40508700000000
LOCATION:Jardin-parc Bellevue de Cintrat\, 3 chemin de Fontalicourt\, 87590 Saint-Just-le-Martel\, France
URL:https://www.fest.fr/e/2370958
UID:2370958-4@fest.fr
END:VEVENT
END:VCALENDAR
