BEGIN:VCALENDAR
CALSCALE:GREGORIAN
VERSION:2.0
METHOD:PUBLISH 
X-WR-CALNAME:
BEGIN:VEVENT
DTSTART;TZID=Europe/Paris:20260329T123456
DTEND;TZID=Europe/Paris:20260329T133456
SUMMARY:FORMATION POTAGER MOIS PAR MOIS - OASIS CITADINE
CATEGORIE:Stages, Ateliers et Initiations
GEO:43.61090210000000;3.92101100000000
LOCATION:86 Rue de la Mogère\, 34000 Montpellier\, France
URL:https://www.fest.fr/e/2370902
UID:2370902-1@fest.fr
END:VEVENT
BEGIN:VEVENT
DTSTART;TZID=Europe/Paris:20260426T123456
DTEND;TZID=Europe/Paris:20260426T133456
SUMMARY:FORMATION POTAGER MOIS PAR MOIS - OASIS CITADINE
CATEGORIE:Stages, Ateliers et Initiations
GEO:43.61090210000000;3.92101100000000
LOCATION:86 Rue de la Mogère\, 34000 Montpellier\, France
URL:https://www.fest.fr/e/2370902
UID:2370902-2@fest.fr
END:VEVENT
BEGIN:VEVENT
DTSTART;TZID=Europe/Paris:20260524T123456
DTEND;TZID=Europe/Paris:20260524T133456
SUMMARY:FORMATION POTAGER MOIS PAR MOIS - OASIS CITADINE
CATEGORIE:Stages, Ateliers et Initiations
GEO:43.61090210000000;3.92101100000000
LOCATION:86 Rue de la Mogère\, 34000 Montpellier\, France
URL:https://www.fest.fr/e/2370902
UID:2370902-3@fest.fr
END:VEVENT
BEGIN:VEVENT
DTSTART;TZID=Europe/Paris:20260628T123456
DTEND;TZID=Europe/Paris:20260628T133456
SUMMARY:FORMATION POTAGER MOIS PAR MOIS - OASIS CITADINE
CATEGORIE:Stages, Ateliers et Initiations
GEO:43.61090210000000;3.92101100000000
LOCATION:86 Rue de la Mogère\, 34000 Montpellier\, France
URL:https://www.fest.fr/e/2370902
UID:2370902-4@fest.fr
END:VEVENT
BEGIN:VEVENT
DTSTART;TZID=Europe/Paris:20260726T123456
DTEND;TZID=Europe/Paris:20260726T133456
SUMMARY:FORMATION POTAGER MOIS PAR MOIS - OASIS CITADINE
CATEGORIE:Stages, Ateliers et Initiations
GEO:43.61090210000000;3.92101100000000
LOCATION:86 Rue de la Mogère\, 34000 Montpellier\, France
URL:https://www.fest.fr/e/2370902
UID:2370902-5@fest.fr
END:VEVENT
BEGIN:VEVENT
DTSTART;TZID=Europe/Paris:20260830T123456
DTEND;TZID=Europe/Paris:20260830T133456
SUMMARY:FORMATION POTAGER MOIS PAR MOIS - OASIS CITADINE
CATEGORIE:Stages, Ateliers et Initiations
GEO:43.61090210000000;3.92101100000000
LOCATION:86 Rue de la Mogère\, 34000 Montpellier\, France
URL:https://www.fest.fr/e/2370902
UID:2370902-6@fest.fr
END:VEVENT
END:VCALENDAR
