BEGIN:VCALENDAR
CALSCALE:GREGORIAN
VERSION:2.0
METHOD:PUBLISH 
X-WR-CALNAME:
BEGIN:VEVENT
DTSTART;TZID=Europe/Paris:20260720T123456
DTEND;TZID=Europe/Paris:20260720T133456
SUMMARY:CONCERT LES PLUS BEAUX CHANTS SLAVES
CATEGORIE:Concerts et Musique
GEO:43.59831010000000;3.07970890000000
LOCATION:13 Avenue de la République\, 34240 Lamalou-les-Bains\, France
URL:https://www.fest.fr/e/2370875
UID:2370875-1@fest.fr
END:VEVENT
BEGIN:VEVENT
DTSTART;TZID=Europe/Paris:20260815T123456
DTEND;TZID=Europe/Paris:20260815T133456
SUMMARY:CONCERT LES PLUS BEAUX CHANTS SLAVES
CATEGORIE:Concerts et Musique
GEO:43.59831010000000;3.07970890000000
LOCATION:13 Avenue de la République\, 34240 Lamalou-les-Bains\, France
URL:https://www.fest.fr/e/2370875
UID:2370875-2@fest.fr
END:VEVENT
END:VCALENDAR
