BEGIN:VCALENDAR
CALSCALE:GREGORIAN
VERSION:2.0
METHOD:PUBLISH 
X-WR-CALNAME:
BEGIN:VEVENT
DTSTART;TZID=Europe/Paris:20260606T143000
DTEND;TZID=Europe/Paris:20260606T153000
SUMMARY:Nature et Cathédrale
CATEGORIE:Expositions, Visites et Découvertes
GEO:49.25345800000000;4.03298400000000
LOCATION:Cathédrale Notre-Dame de Reims\, Place du Cardinal Luçon\, 51100 Reims\, France
URL:https://www.fest.fr/e/2370782
UID:2370782-1@fest.fr
END:VEVENT
END:VCALENDAR
