BEGIN:VCALENDAR
CALSCALE:GREGORIAN
VERSION:2.0
METHOD:PUBLISH 
X-WR-CALNAME:
BEGIN:VEVENT
DTSTART;TZID=Europe/Paris:20270429T200000
DTEND;TZID=Europe/Paris:20270429T210000
SUMMARY:Pierre Thevenoux - Life Coach - Tournée
CATEGORIE:Spectacles et théâtre
GEO:43.12030644222400;5.93580600665600
LOCATION:Palais Neptune\, Place de Besagne\, 83000 Toulon\, France
URL:https://www.fest.fr/e/2370756
UID:2370756-1@fest.fr
END:VEVENT
END:VCALENDAR
