BEGIN:VCALENDAR
CALSCALE:GREGORIAN
VERSION:2.0
METHOD:PUBLISH 
X-WR-CALNAME:
BEGIN:VEVENT
DTSTART;TZID=Europe/Paris:20261119T210000
DTEND;TZID=Europe/Paris:20261119T220000
SUMMARY:Julien Schmidt
CATEGORIE:Spectacles et théâtre
GEO:49.18385308271300;-0.35755406225200
LOCATION:THEATRE A L'OUEST CAEN\, 8 QUAI VENDEUVRE\, 14000 Caen\, France
URL:https://www.fest.fr/e/2370724
UID:2370724-1@fest.fr
END:VEVENT
END:VCALENDAR
